BEGIN:VCALENDAR
VERSION:2.0
PRODID:-//Marc Sinan Company - ECPv6.15.11//NONSGML v1.0//EN
CALSCALE:GREGORIAN
METHOD:PUBLISH
X-WR-CALNAME:Marc Sinan Company
X-ORIGINAL-URL:https://marcsinan.de
X-WR-CALDESC:Veranstaltungen für Marc Sinan Company
REFRESH-INTERVAL;VALUE=DURATION:PT1H
X-Robots-Tag:noindex
X-PUBLISHED-TTL:PT1H
BEGIN:VTIMEZONE
TZID:UTC
BEGIN:STANDARD
TZOFFSETFROM:+0000
TZOFFSETTO:+0000
TZNAME:UTC
DTSTART:20240101T000000
END:STANDARD
END:VTIMEZONE
BEGIN:VEVENT
DTSTART;TZID=UTC:20251206T190000
DTEND;TZID=UTC:20251206T203000
DTSTAMP:20260421T121555
CREATED:20251013T141229Z
LAST-MODIFIED:20251013T141229Z
UID:15896-1765047600-1765053000@marcsinan.de
SUMMARY:RE:KOMITAS
DESCRIPTION:KOMITAS ist mehr als ein Musiktheater – es ist ein Plädoyer gegen das Vergessen\, ein Aufruf zur Menschlichkeit und ein künstlerisches Zeichen gegen Gewalt und Verdrängung. Ein Abend von großer emotionaler und historischer Tiefe.
URL:https://marcsinan.de/event/rekomitas/
LOCATION:Spreehalle Berlin
END:VEVENT
END:VCALENDAR