BEGIN:VCALENDAR
VERSION:2.0
PRODID:-//Marc Sinan Company - ECPv6.15.11//NONSGML v1.0//EN
CALSCALE:GREGORIAN
METHOD:PUBLISH
X-ORIGINAL-URL:https://marcsinan.de
X-WR-CALDESC:Veranstaltungen für Marc Sinan Company
REFRESH-INTERVAL;VALUE=DURATION:PT1H
X-Robots-Tag:noindex
X-PUBLISHED-TTL:PT1H
BEGIN:VTIMEZONE
TZID:UTC
BEGIN:STANDARD
TZOFFSETFROM:+0000
TZOFFSETTO:+0000
TZNAME:UTC
DTSTART:20250101T000000
END:STANDARD
END:VTIMEZONE
BEGIN:VEVENT
DTSTART;TZID=UTC:20260412T190000
DTEND;TZID=UTC:20260412T203000
DTSTAMP:20260419T145215
CREATED:20260219T122546Z
LAST-MODIFIED:20260223T124713Z
UID:16504-1776020400-1776025800@marcsinan.de
SUMMARY:Götterspeise
DESCRIPTION:In der humoristisch-analytischen Lecture-Performance nimmt sich Marc Sinan der großen Säulenheiligen der deutschen Musikgeschichte an: Bach\, Mozart und Beethoven – überlebensgroß\, ikonisiert\, bis heute allgegenwärtig im Kanon der klassischen Musik.
URL:https://marcsinan.de/event/nichts-ist-heilig/
LOCATION:Thüringer Bachwochen\, Stadtgarten\, Erfurt
END:VEVENT
END:VCALENDAR