BEGIN:VCALENDAR
VERSION:2.0
PRODID:-//Marc Sinan Company - ECPv6.15.11//NONSGML v1.0//EN
CALSCALE:GREGORIAN
METHOD:PUBLISH
X-WR-CALNAME:Marc Sinan Company
X-ORIGINAL-URL:https://marcsinan.de/en/
X-WR-CALDESC:Events for Marc Sinan Company
REFRESH-INTERVAL;VALUE=DURATION:PT1H
X-Robots-Tag:noindex
X-PUBLISHED-TTL:PT1H
BEGIN:VTIMEZONE
TZID:UTC
BEGIN:STANDARD
TZOFFSETFROM:+0000
TZOFFSETTO:+0000
TZNAME:UTC
DTSTART:20220101T000000
END:STANDARD
END:VTIMEZONE
BEGIN:VEVENT
DTSTART;TZID=UTC:20250508T200000
DTEND;TZID=UTC:20250508T213000
DTSTAMP:20260421T154318
CREATED:20250129T082937Z
LAST-MODIFIED:20250129T105439Z
UID:15319-1746734400-1746739800@marcsinan.de
SUMMARY:BEFREIUNG - premiere
DESCRIPTION:A peace oratorio – A European peace oratorio for an international orchestra\, soloists\, choirs and amateur singers\, to commemorate the end of the Second World War 80 years ago.
URL:https://marcsinan.de/en/event/liberation-world-premiere/
LOCATION:Evangelische Heilig Kreuz Kirche\, Augsburg
END:VEVENT
BEGIN:VEVENT
DTSTART;TZID=UTC:20241215T170000
DTEND;TZID=UTC:20241215T190000
DTSTAMP:20260421T154318
CREATED:20241014T110826Z
LAST-MODIFIED:20241014T121551Z
UID:15206-1734282000-1734289200@marcsinan.de
SUMMARY:AIODE Paradise
DESCRIPTION:Im zweiten Teil des AIODE Projekts setzt sich die Marc Sinan Company ein weiteres Mal mit dem Zusammenspiel aus künstlicher Intelligenz und Musik auseinander. PARADISE ist eine KI\, die einen Cembaloroboter steuert und unter anderem in Marc Sinans Songcycle NEOFİLİA zu hören ist\, einer Feier der Liebe zum Neuen und Fremden. Außerdem präsentieren die Sopranistin Johanna Vargas und Pianistin Magdalena Cerezo Falces den COLD TRIP des legendären österreichischer Komponisten\, Improvisators und Programmierers musikalischer Patches und Applikationen Bernhard Lang. \n  \nNEOFİLİA\nEin Konzert der Marc Sinan Company mit Johanna Vargas\, Magdalena Cerezo\, Meinrad Kneer\, Marc Sinan und Cembaloroboter verschreibt sich nicht etwa Exotismus und Angst sondern ganz im Gegenteil: der Liebe zum Fremden. Inspiriert von Texten über die Liebe von James Baldwin\, Fatma Kahriman und Ingeborg Bachmann entwickelt sich der Sound einer mitreißenden Band zwischen Barock\, türkischer Musik und Neuer Musik. \n  \nTHE COLD TRIP\nJohanna Vargas und Magdalena Cerezo Falces spielen Bernhard Langs irre Drehung einer Winterreise.
URL:https://marcsinan.de/en/event/aiode-paradise/
LOCATION:SPREEHALLE Berlin
ORGANIZER;CN="Ymusic Ltd.":MAILTO:info@ymusic.de
END:VEVENT
BEGIN:VEVENT
DTSTART;VALUE=DATE:20241013
DTEND;VALUE=DATE:20241014
DTSTAMP:20260421T154318
CREATED:20240507T103024Z
LAST-MODIFIED:20240822T095452Z
UID:10751-1728777600-1728863999@marcsinan.de
SUMMARY:AIODE - Paradise
DESCRIPTION:AIODE Paradise is the second part of the Marc Sinan Company’s exploration of music and artificial intelligence. In Marc Sinan’s song cycle Neofilia\, which is dedicated to the topos of love for the “stranger” against misogyny and xenophobia\, an AI controls a self-playing harpsichord and interacts with other musicians.
URL:https://marcsinan.de/en/event/aiode/
END:VEVENT
BEGIN:VEVENT
DTSTART;VALUE=DATE:20240921
DTEND;VALUE=DATE:20240923
DTSTAMP:20260421T154318
CREATED:20240805T102218Z
LAST-MODIFIED:20240822T095104Z
UID:13034-1726876800-1727049599@marcsinan.de
SUMMARY:AIODE - Apocalypse
DESCRIPTION:The technologically and artistically advanced first sub-projects by Sara Glojnarić (UA)\, Nicola Hein (UA) and Malte Giesen in collaboration with the Marc Sinan Company and the Robot Orchestra of the Logos Foundation Gent will be presented on 21.09.2024 in our Spreehalle Berlin and the following day on the grounds of the Hochschule für Technik und Wirtschaft Berlin as part of the HOLITOPIA Festival 2024 .
URL:https://marcsinan.de/en/event/aiode-apocalypse/
END:VEVENT
BEGIN:VEVENT
DTSTART;TZID=UTC:20240525T203000
DTEND;TZID=UTC:20240525T210000
DTSTAMP:20260421T154318
CREATED:20240424T151521Z
LAST-MODIFIED:20240618T092759Z
UID:10458-1716669000-1716670800@marcsinan.de
SUMMARY:OUMUAMUA concert
DESCRIPTION:In the concert\, musician Marc Sinan interacts with the sounds\, stories\, movements and touches that the audience shared with OUMUAMUA during the installation.
URL:https://marcsinan.de/en/event/oumuamua-concert/
END:VEVENT
BEGIN:VEVENT
DTSTART;TZID=UTC:20240525T180000
DTEND;TZID=UTC:20240525T183000
DTSTAMP:20260421T154318
CREATED:20240424T151715Z
LAST-MODIFIED:20240618T092759Z
UID:10462-1716660000-1716661800@marcsinan.de
SUMMARY:OUMUAMUA concert
DESCRIPTION:In the concert\, the musician Oğuz Büyükberber interacts with the sounds\, stories\, movements and touches that the audience shared with OUMUAMUA during the installation.
URL:https://marcsinan.de/en/event/oumuamua-concert-2/
END:VEVENT
BEGIN:VEVENT
DTSTART;TZID=UTC:20240525T140000
DTEND;TZID=UTC:20240525T190000
DTSTAMP:20260421T154318
CREATED:20240424T151146Z
LAST-MODIFIED:20240618T092759Z
UID:10455-1716645600-1716663600@marcsinan.de
SUMMARY:OUMUAMUA Installation
DESCRIPTION:In the interactive installation\, OUMUAMUA communicates with the audience and with the musicians Laura Robles\, Oğuz Büyükberber and Marc Sinan. It collects sounds and stories that the audience shares with it\, and even reacts to movements and touches.
URL:https://marcsinan.de/en/event/oumuamua-installation-3/
END:VEVENT
BEGIN:VEVENT
DTSTART;TZID=UTC:20240524T180000
DTEND;TZID=UTC:20240524T220000
DTSTAMP:20260421T154318
CREATED:20240424T151103Z
LAST-MODIFIED:20240618T092759Z
UID:10452-1716573600-1716588000@marcsinan.de
SUMMARY:OUMUAMUA Installation
DESCRIPTION:In the interactive installation\, OUMUAMUA communicates with the audience and with the musicians Laura Robles\, Oğuz Büyükberber and Marc Sinan. It collects sounds and stories that the audience shares with it\, and even reacts to movements and touches.
URL:https://marcsinan.de/en/event/oumuamua-installation-2/
END:VEVENT
BEGIN:VEVENT
DTSTART;TZID=UTC:20240524T180000
DTEND;TZID=UTC:20240524T183000
DTSTAMP:20260421T154318
CREATED:20240424T151934Z
LAST-MODIFIED:20240618T092759Z
UID:10466-1716573600-1716575400@marcsinan.de
SUMMARY:OUMUAMUA concert
DESCRIPTION:In the concert\, musician Laura Robles interacts with the sounds\, stories\, movements and touches that the audience shared with OUMUAMUA during the installation.
URL:https://marcsinan.de/en/event/oumuamua-concert-3/
END:VEVENT
BEGIN:VEVENT
DTSTART;TZID=UTC:20240523T183000
DTEND;TZID=UTC:20240523T220000
DTSTAMP:20260421T154318
CREATED:20240424T151028Z
LAST-MODIFIED:20240618T092800Z
UID:10449-1716489000-1716501600@marcsinan.de
SUMMARY:OUMUAMUA Installation
DESCRIPTION:In the interactive installation\, OUMUAMUA communicates with the audience and with the musicians Laura Robles\, Oğuz Büyükberber and Marc Sinan. It collects sounds and stories that the audience shares with it\, and even reacts to movements and touches.
URL:https://marcsinan.de/en/event/oumuamua-installation/
END:VEVENT
BEGIN:VEVENT
DTSTART;TZID=UTC:20240509T160000
DTEND;TZID=UTC:20240509T170000
DTSTAMP:20260421T154318
CREATED:20240508T101529Z
LAST-MODIFIED:20240618T092836Z
UID:11188-1715270400-1715274000@marcsinan.de
SUMMARY:Test
DESCRIPTION:This is a test
URL:https://marcsinan.de/en/event/test__trashed/
LOCATION:SPREEHALLE Berlin
END:VEVENT
BEGIN:VEVENT
DTSTART;VALUE=DATE:20231130
DTEND;VALUE=DATE:20231201
DTSTAMP:20260421T154318
CREATED:20230726T095548Z
LAST-MODIFIED:20240618T092800Z
UID:7788-1701302400-1701388799@marcsinan.de
SUMMARY:DIFFERENT BOMBS
DESCRIPTION:– A composed research by Marc Sinan and Nataly Bleuel: Bombs Fall\, Bombs Kill. Daily and yet anonymous. Who is a perpetrator and who is a victim in war is often in the eye of the beholder. The concert DIFFERENT BOMBS is a composed research for 8 electric guitars\, 8 violas\, 8 double basses.
URL:https://marcsinan.de/en/event/different-bombs/
LOCATION:Concert Hall Berlin
END:VEVENT
BEGIN:VEVENT
DTSTART;VALUE=DATE:20231119
DTEND;VALUE=DATE:20231120
DTSTAMP:20260421T154318
CREATED:20230726T090831Z
LAST-MODIFIED:20240618T092800Z
UID:7789-1700352000-1700438399@marcsinan.de
SUMMARY:DIFFERENT BOMBS
DESCRIPTION:– A composed research by Marc Sinan and Nataly Bleuel: Bombs Fall\, Bombs Kill. Daily and yet anonymous. Who is a perpetrator and who is a victim in war is often in the eye of the beholder. The concert DIFFERENT BOMBS is a composed research for 8 electric guitars\, 8 violas\, 8 double basses.
URL:https://marcsinan.de/en/event/different-bombs-2/
LOCATION:Kampnagel\, Hamburg
END:VEVENT
BEGIN:VEVENT
DTSTART;VALUE=DATE:20231109
DTEND;VALUE=DATE:20231113
DTSTAMP:20260421T154318
CREATED:20230808T084316Z
LAST-MODIFIED:20240618T092800Z
UID:7794-1699488000-1699833599@marcsinan.de
SUMMARY:OUMUAMUA
DESCRIPTION:– Aliens live among us and they have brought a guest gift: OUMUAMUA is a digital instrument that stores different sounds value-free. It helps us make music at eye level with each other\, with our intergalactic neighbors\, but also with our earthly ones.
URL:https://marcsinan.de/en/event/oumuamua-2/
LOCATION:State Theater Karlsruhe
END:VEVENT
BEGIN:VEVENT
DTSTART;VALUE=DATE:20231109
DTEND;VALUE=DATE:20231110
DTSTAMP:20260421T154318
CREATED:20230726T091947Z
LAST-MODIFIED:20240618T095153Z
UID:7791-1699488000-1699574399@marcsinan.de
SUMMARY:OFFENBARUNG - PARADISE NOW!
DESCRIPTION:– Paradise now!: What does a world sound like after humanity has disappeared? Will it be paradisiacal or apocalyptic conditions\, which circles of hell do we have to pass through? And where will it lead us? With the apocalyptic performance OFFENBARUNG – Paradise now! we look towards the end of the world.
URL:https://marcsinan.de/en/event/revelation-paradise-now/
LOCATION:State Theater Karlsruhe
END:VEVENT
BEGIN:VEVENT
DTSTART;VALUE=DATE:20231008
DTEND;VALUE=DATE:20231009
DTSTAMP:20260421T154318
CREATED:20230726T075510Z
LAST-MODIFIED:20240618T095159Z
UID:7792-1696723200-1696809599@marcsinan.de
SUMMARY:AM ANFANG
DESCRIPTION:– our fragmented past\, present and future: where do we come from and where are we going? West African creation myths meet the Big Bang Theory. Together with the Djiguya Orchestra from Mali and the Neue Vocalsolisten\, the Marc Sinan Company explores the soundtrack of the Big Bang.
URL:https://marcsinan.de/en/event/at-the-beginning/
LOCATION:Munich Chamber Theatre
ORGANIZER;CN="Ymusic Ltd.":MAILTO:info@ymusic.de
END:VEVENT
BEGIN:VEVENT
DTSTART;VALUE=DATE:20231003
DTEND;VALUE=DATE:20231004
DTSTAMP:20260421T154318
CREATED:20230818T145603Z
LAST-MODIFIED:20240618T092800Z
UID:7828-1696291200-1696377599@marcsinan.de
SUMMARY:HYBRIS / SEVEN SPIRITS
DESCRIPTION:HYBRIS / SEVEN SPIRTIS is one of seven sub-projects of the musical anti-war performance KRIEGSWEIHE\, which the Marc Sinan Company\, the Kyiv Symphony Orchestra and the Ensemble Metamorphosis have developed together with other international artists for the Kunstfest Weimar. | sound installation daily 12 – 19 h
URL:https://marcsinan.de/en/event/hybris-seven-spirits-2/
LOCATION:Urban space Ebersberg
END:VEVENT
BEGIN:VEVENT
DTSTART;VALUE=DATE:20231003
DTEND;VALUE=DATE:20231004
DTSTAMP:20260421T154318
CREATED:20230818T145332Z
LAST-MODIFIED:20240618T095225Z
UID:7822-1696291200-1696377599@marcsinan.de
SUMMARY:VERACHTUNG / BLUTSEE
DESCRIPTION:VERACHTUNG / BLUTSEE is one of seven subprojects of the musical anti-war performance KRIEGSWEIHE\, which the Marc Sinan Company\, the Kyiv Symphony Orchestra and the Ensemble Metamorphosis developed together with other international artists for the Kunstfest Weimar. | sound installation daily between 12 and 18 o’clock
URL:https://marcsinan.de/en/event/contempt-blood-lake-2/
LOCATION:Urban space Ebersberg
END:VEVENT
BEGIN:VEVENT
DTSTART;VALUE=DATE:20230922
DTEND;VALUE=DATE:20230924
DTSTAMP:20260421T154318
CREATED:20230726T082735Z
LAST-MODIFIED:20240618T092800Z
UID:7784-1695340800-1695513599@marcsinan.de
SUMMARY:OUMUAMUA
DESCRIPTION:– Aliens live among us and they have brought a guest gift: OUMUAMUA is a digital instrument that stores different sounds value-free. It helps us make music at eye level with each other\, with our intergalactic neighbors\, but also with our earthly ones.
URL:https://marcsinan.de/en/event/oumuamua/
LOCATION:SPREEHALLE Berlin
END:VEVENT
BEGIN:VEVENT
DTSTART;VALUE=DATE:20230910
DTEND;VALUE=DATE:20231016
DTSTAMP:20260421T154318
CREATED:20230726T081222Z
LAST-MODIFIED:20240618T092800Z
UID:7780-1694304000-1697414399@marcsinan.de
SUMMARY:SEVEN SPIRITS
DESCRIPTION:– Seven musical interventions on the impossibility of forgetting: SEVEN SPIRITS is a multimedia\, participatory installation. Seven pressure chamber speakers\, stand for summoned spirits. Arranged in a circle\, they emit eerie sounds.
URL:https://marcsinan.de/en/event/seven-spirits/
LOCATION:Urban space Ebersberg
END:VEVENT
BEGIN:VEVENT
DTSTART;TZID=UTC:20230903T200000
DTEND;TZID=UTC:20230903T213000
DTSTAMP:20260421T154318
CREATED:20230816T104531Z
LAST-MODIFIED:20240618T095232Z
UID:7824-1693771200-1693776600@marcsinan.de
SUMMARY:KILLKRIEG / A GALA
DESCRIPTION:RESPONSIBILITY / DEATH FUGE is one of seven subprojects of the musical anti-war performance WAR SENTENCE\, which the Marc Sinan Company\, the Kyiv Symphony Orchestra and the Ensemble Metamorphosis developed together with other international artists for the Kunstfest Weimar.
URL:https://marcsinan.de/en/event/kill-war-a-gala/
LOCATION:German National Theater Weimar\, Big house
END:VEVENT
BEGIN:VEVENT
DTSTART;TZID=UTC:20230903T190000
DTEND;TZID=UTC:20230903T203000
DTSTAMP:20260421T154318
CREATED:20230816T090527Z
LAST-MODIFIED:20240618T092801Z
UID:7849-1693767600-1693773000@marcsinan.de
SUMMARY:RAUSCH
DESCRIPTION:RAUSCH is one of seven subprojects of the musical anti-war performance KRIEGSWEIHE\, which the Marc Sinan Company\, the Kyiv Symphony Orchestra and the Ensemble Metamorphosis developed together with other international artists for the Kunstfest Weimar.
URL:https://marcsinan.de/en/event/rausch-2/
LOCATION:Theaterplatz\, Weimar Art Festival
END:VEVENT
BEGIN:VEVENT
DTSTART;TZID=UTC:20230903T183000
DTEND;TZID=UTC:20230903T193000
DTSTAMP:20260421T154318
CREATED:20230816T104012Z
LAST-MODIFIED:20240618T095252Z
UID:7851-1693765800-1693769400@marcsinan.de
SUMMARY:HOFFNUNG / IM TOD VERSCHLUNGEN
DESCRIPTION:HOFFNUNG / IM TOD UMSCHLUNGEN is one of seven subprojects of the musical anti-war performance KRIEGSWEIHE\, which the Marc Sinan Company\, the Kyiv Symphony Orchestra and the Ensemble Metamorphosis developed together with other international artists for the Kunstfest Weimar.
URL:https://marcsinan.de/en/event/hope-embraced-in-death-3/
LOCATION:Weimarhallenpark\, Weimar Art Festival
END:VEVENT
BEGIN:VEVENT
DTSTART;TZID=UTC:20230903T173000
DTEND;TZID=UTC:20230903T174500
DTSTAMP:20260421T154318
CREATED:20230816T100444Z
LAST-MODIFIED:20240618T095301Z
UID:7852-1693762200-1693763100@marcsinan.de
SUMMARY:VERANTWORTUNG / TODESFUGE
DESCRIPTION:RESPONSIBILITY / DEATH FUGE is one of seven subprojects of the musical anti-war performance WAR SENTENCE\, which the Marc Sinan Company\, the Kyiv Symphony Orchestra and the Ensemble Metamorphosis developed together with other international artists for the Kunstfest Weimar.
URL:https://marcsinan.de/en/event/responsibility-death-fugue-4/
LOCATION:Jorge Semprun Square / Gauforum\, Weimar Art Festival
END:VEVENT
BEGIN:VEVENT
DTSTART;TZID=UTC:20230903T163000
DTEND;TZID=UTC:20230903T173000
DTSTAMP:20260421T154318
CREATED:20230816T082713Z
LAST-MODIFIED:20240618T095312Z
UID:7810-1693758600-1693762200@marcsinan.de
SUMMARY:HOFFNUNG / IM TOD UMSCHLUNGEN
DESCRIPTION:HOFFNUNG / IM TOD UMSCHLUNGEN is one of seven subprojects of the musical anti-war performance KRIEGSWEIHE\, which the Marc Sinan Company\, the Kyiv Symphony Orchestra and the Ensemble Metamorphosis developed together with other international artists for the Kunstfest Weimar.
URL:https://marcsinan.de/en/event/hope-embraced-in-death-2/
LOCATION:Weimarhallenpark\, Weimar Art Festival
END:VEVENT
BEGIN:VEVENT
DTSTART;TZID=UTC:20230903T163000
DTEND;TZID=UTC:20230903T163000
DTSTAMP:20260421T154318
CREATED:20230816T090437Z
LAST-MODIFIED:20240618T092803Z
UID:7847-1693758600-1693758600@marcsinan.de
SUMMARY:RAUSCH
DESCRIPTION:RAUSCH is one of seven subprojects of the musical anti-war performance KRIEGSWEIHE\, which the Marc Sinan Company\, the Kyiv Symphony Orchestra and the Ensemble Metamorphosis developed together with other international artists for the Kunstfest Weimar.
URL:https://marcsinan.de/en/event/rausch/
LOCATION:Theaterplatz\, Weimar Art Festival
END:VEVENT
BEGIN:VEVENT
DTSTART;TZID=UTC:20230903T160000
DTEND;TZID=UTC:20230903T161500
DTSTAMP:20260421T154318
CREATED:20230816T100820Z
LAST-MODIFIED:20240618T095335Z
UID:7820-1693756800-1693757700@marcsinan.de
SUMMARY:VERANTWORTUNG / TODESFUGE
DESCRIPTION:RESPONSIBILITY / DEATH FUGE is one of seven subprojects of the musical anti-war performance WAR SENTENCE\, which the Marc Sinan Company\, the Kyiv Symphony Orchestra and the Ensemble Metamorphosis developed together with other international artists for the Kunstfest Weimar.
URL:https://marcsinan.de/en/event/responsibility-death-fugue-3/
LOCATION:Jorge Semprun Square / Gauforum\, Weimar Art Festival
END:VEVENT
BEGIN:VEVENT
DTSTART;TZID=UTC:20230903T150000
DTEND;TZID=UTC:20230903T151500
DTSTAMP:20260421T154318
CREATED:20230816T100344Z
LAST-MODIFIED:20240618T095343Z
UID:7819-1693753200-1693754100@marcsinan.de
SUMMARY:VERANTWORTUNG / TODESFUGE
DESCRIPTION:RESPONSIBILITY / DEATH FUGE is one of seven subprojects of the musical anti-war performance WAR SENTENCE\, which the Marc Sinan Company\, the Kyiv Symphony Orchestra and the Ensemble Metamorphosis developed together with other international artists for the Kunstfest Weimar.
URL:https://marcsinan.de/en/event/responsibility-death-fugue-2/
LOCATION:Jorge Semprun Square / Gauforum\, Weimar Art Festival
END:VEVENT
BEGIN:VEVENT
DTSTART;TZID=UTC:20230903T133000
DTEND;TZID=UTC:20230903T143000
DTSTAMP:20260421T154318
CREATED:20230816T082050Z
LAST-MODIFIED:20240618T095405Z
UID:7805-1693747800-1693751400@marcsinan.de
SUMMARY:HOFFNUNG / IM TOD VERSCHLUNGEN
DESCRIPTION:HOFFNUNG / IM TOD UMSCHLUNGEN is one of seven subprojects of the musical anti-war performance KRIEGSWEIHE\, which the Marc Sinan Company\, the Kyiv Symphony Orchestra and the Ensemble Metamorphosis developed together with other international artists for the Kunstfest Weimar.
URL:https://marcsinan.de/en/event/hope-embraced-in-death/
LOCATION:Weimarhallenpark\, Weimar Art Festival
END:VEVENT
BEGIN:VEVENT
DTSTART;TZID=UTC:20230903T130000
DTEND;TZID=UTC:20230903T131500
DTSTAMP:20260421T154318
CREATED:20230816T081435Z
LAST-MODIFIED:20240618T095411Z
UID:7790-1693746000-1693746900@marcsinan.de
SUMMARY:VERANTWORTUNG / TODESFUGE
DESCRIPTION:RESPONSIBILITY / DEATH FUGE is one of seven subprojects of the musical anti-war performance WAR SENTENCE\, which the Marc Sinan Company\, the Kyiv Symphony Orchestra and the Ensemble Metamorphosis developed together with other international artists for the Kunstfest Weimar.
URL:https://marcsinan.de/en/event/responsibility-death-fugue/
LOCATION:Jorge Semprun Square / Gauforum\, Weimar Art Festival
END:VEVENT
END:VCALENDAR